BEGIN:VCALENDAR
VERSION:2.0
PRODID:-//Spółdzielnia Mieszkaniowa Osiedle Młodych - ECPv5.16.4//NONSGML v1.0//EN
CALSCALE:GREGORIAN
METHOD:PUBLISH
X-WR-CALNAME:Spółdzielnia Mieszkaniowa Osiedle Młodych
X-ORIGINAL-URL:https://osiedlemlodych.pl
X-WR-CALDESC:Wydarzenia dla Spółdzielnia Mieszkaniowa Osiedle Młodych
BEGIN:VTIMEZONE
TZID:Europe/Warsaw
BEGIN:DAYLIGHT
TZOFFSETFROM:+0100
TZOFFSETTO:+0200
TZNAME:CEST
DTSTART:20240331T010000
END:DAYLIGHT
BEGIN:STANDARD
TZOFFSETFROM:+0200
TZOFFSETTO:+0100
TZNAME:CET
DTSTART:20241027T010000
END:STANDARD
END:VTIMEZONE
BEGIN:VEVENT
DTSTART;TZID=Europe/Warsaw:20241012T110000
DTEND;TZID=Europe/Warsaw:20241012T123000
DTSTAMP:20260421T225406
CREATED:20240910T132053Z
LAST-MODIFIED:20240910T132053Z
UID:47749-1728730800-1728736200@osiedlemlodych.pl
SUMMARY:"Zaczarowane Pięterko" Pokaz iluzji dla dzieci na wesoło!
DESCRIPTION:Już 12 października zapraszamy wszystkie dzieci w wieku 6-12 lat na pokaz iluzji! \n„Zaczarowane Pięterko” od lat przyciąga zafascynowanych magicznymi sztuczkami i interaktywnym pokazem czarów. Chcecie poznać tajniki sztuczek magicznych i triki? Zapraszamy Na Pięterko! \nKoszt wydarzenia: \nbilet dla dziecka 15 zł \nbilet dziecko + 1 dorosły 35 zł \nBilety do nabycia od 16 września. \n 
URL:https://osiedlemlodych.pl/wydarzenia/zaczarowane-pieterko-pokaz-iluzji-dla-dzieci-na-wesolo/
LOCATION:Dom Kultury „Na Pięterku”\, os. Orła Białego 5\, Poznań\, Wielkopolska\, 61-251\, Poland
CATEGORIES:Na pięterku
ATTACH;FMTTYPE=image/jpeg:https://osiedlemlodych.pl/wp-content/uploads/2024/09/194.jpg
END:VEVENT
END:VCALENDAR