BEGIN:VCALENDAR
VERSION:2.0
PRODID:-//Spółdzielnia Mieszkaniowa Osiedle Młodych - ECPv5.16.4//NONSGML v1.0//EN
CALSCALE:GREGORIAN
METHOD:PUBLISH
X-WR-CALNAME:Spółdzielnia Mieszkaniowa Osiedle Młodych
X-ORIGINAL-URL:https://osiedlemlodych.pl
X-WR-CALDESC:Wydarzenia dla Spółdzielnia Mieszkaniowa Osiedle Młodych
BEGIN:VTIMEZONE
TZID:Europe/Warsaw
BEGIN:DAYLIGHT
TZOFFSETFROM:+0100
TZOFFSETTO:+0200
TZNAME:CEST
DTSTART:20220327T010000
END:DAYLIGHT
BEGIN:STANDARD
TZOFFSETFROM:+0200
TZOFFSETTO:+0100
TZNAME:CET
DTSTART:20221030T010000
END:STANDARD
END:VTIMEZONE
BEGIN:VEVENT
DTSTART;TZID=Europe/Warsaw:20221106T150000
DTEND;TZID=Europe/Warsaw:20221106T180000
DTSTAMP:20260422T034006
CREATED:20221012T102455Z
LAST-MODIFIED:20221012T102628Z
UID:36656-1667746800-1667757600@osiedlemlodych.pl
SUMMARY:ZAGRAJ Z GRANNĄ - Turniej gier planszowych
DESCRIPTION:Do udziału w turnieju zapraszamy rodziny z dziećmi w wieku od 6 lat oraz młodzież.  \n  \nTurniej składać się będzie z dwóch części: \n* Turniej w grę Superfarmer\n* Planszówkowe wyzwanie (zagraj w co najmniej 3 gry i wykonaj zadanie) \n  \nUdział w wydarzeniu jest bezpłatny\, a dzięki wsparciu wydawcy gier planszowych\, na uczestników czekają specjalne nagrody 🙂 \nTo doskonała okazja żeby spotkać nowe osoby\, spędzić czas z bliskimi i przyjaciółmi oraz rozwinąć swoje zainteresowania 🙂 \n  \nRezerwacji miejsc można dokonać telefonicznie (tel. 61 877 78 42) lub mailowo (dkorlegniazdo@gmail.com). \n  \nOrganizatorem wydarzenia jest Fundacja Kraina Nadziei.
URL:https://osiedlemlodych.pl/wydarzenia/zagraj-z-granna-turniej-gier-planszowych/
LOCATION:Dom Kultury „Orle Gniazdo”\, os. Lecha 43\, Poznań\, Wielkopolskie\, 61-294\, Polska
CATEGORIES:Orle Gniazdo
ATTACH;FMTTYPE=image/jpeg:https://osiedlemlodych.pl/wp-content/uploads/2022/10/rancho1.jpg
END:VEVENT
END:VCALENDAR