BEGIN:VCALENDAR
VERSION:2.0
PRODID:-//Spółdzielnia Mieszkaniowa Osiedle Młodych - ECPv5.16.4//NONSGML v1.0//EN
CALSCALE:GREGORIAN
METHOD:PUBLISH
X-WR-CALNAME:Spółdzielnia Mieszkaniowa Osiedle Młodych
X-ORIGINAL-URL:https://osiedlemlodych.pl
X-WR-CALDESC:Wydarzenia dla Spółdzielnia Mieszkaniowa Osiedle Młodych
BEGIN:VTIMEZONE
TZID:Europe/Warsaw
BEGIN:DAYLIGHT
TZOFFSETFROM:+0100
TZOFFSETTO:+0200
TZNAME:CEST
DTSTART:20240331T010000
END:DAYLIGHT
BEGIN:STANDARD
TZOFFSETFROM:+0200
TZOFFSETTO:+0100
TZNAME:CET
DTSTART:20241027T010000
END:STANDARD
END:VTIMEZONE
BEGIN:VEVENT
DTSTART;TZID=Europe/Warsaw:20241216T170000
DTEND;TZID=Europe/Warsaw:20241216T183000
DTSTAMP:20260422T125700
CREATED:20241119T184446Z
LAST-MODIFIED:20241119T184555Z
UID:48910-1734368400-1734373800@osiedlemlodych.pl
SUMMARY:"Zimowe wianki" - rodzinne warsztaty ozdób świątecznych
DESCRIPTION:Tradycyjnie\, jak co roku\, zapraszamy na rodzinne warsztaty tworzenia ozdób świątecznych! Tym razem będą to zimowe wianki\, które zawiesić można będzie na przykład na drzwiach czy oknie. Świąteczna\, rodzinna atmosfera i kreatywny czas przy kawie\, herbacie i ciastku gwarantowany! \nCena: 60 zł / rodzic + dziecko
URL:https://osiedlemlodych.pl/wydarzenia/zimowe-wianki-rodzinne-warsztaty-ozdob-swiatecznych/
LOCATION:Dom Kultury „Jagiellonka”
CATEGORIES:Jagiellonka
ATTACH;FMTTYPE=image/png:https://osiedlemlodych.pl/wp-content/uploads/2024/11/zimowe-wianki-1.png
END:VEVENT
END:VCALENDAR