BEGIN:VCALENDAR
VERSION:2.0
PRODID:-//Spółdzielnia Mieszkaniowa Osiedle Młodych - ECPv5.16.4//NONSGML v1.0//EN
CALSCALE:GREGORIAN
METHOD:PUBLISH
X-WR-CALNAME:Spółdzielnia Mieszkaniowa Osiedle Młodych
X-ORIGINAL-URL:https://osiedlemlodych.pl
X-WR-CALDESC:Wydarzenia dla Spółdzielnia Mieszkaniowa Osiedle Młodych
BEGIN:VTIMEZONE
TZID:Europe/Warsaw
BEGIN:DAYLIGHT
TZOFFSETFROM:+0100
TZOFFSETTO:+0200
TZNAME:CEST
DTSTART:20230326T010000
END:DAYLIGHT
BEGIN:STANDARD
TZOFFSETFROM:+0200
TZOFFSETTO:+0100
TZNAME:CET
DTSTART:20231029T010000
END:STANDARD
END:VTIMEZONE
BEGIN:VEVENT
DTSTART;TZID=Europe/Warsaw:20230129T120000
DTEND;TZID=Europe/Warsaw:20230129T130000
DTSTAMP:20260422T033048
CREATED:20230118T191818Z
LAST-MODIFIED:20230118T193511Z
UID:38374-1674993600-1674997200@osiedlemlodych.pl
SUMMARY:Zumba z Anią dla WOŚP
DESCRIPTION:Zumba z Anią dla WOŚP to przyjemne z pożytecznym! 💪🏼 \nEnergiczne podrygi\, które przymnażają endorfin\, że aż radość kipi z człowieka! 🤸🏼🤸🏼‍♂️🤸🏼‍♀️ \nA w połączeniu z charytatywnym celem wydarzenia można zaznać iście pozytywnych wrażeń i wrócić do domu w poczuciu dobrze spędzonego czasu. \nNa miejscu znajdziecie puszkę WOŚP\, do której będziecie mogli wrzucić nieco kasy. 😉 \nPolecamy\, zapraszamy! \n 
URL:https://osiedlemlodych.pl/wydarzenia/zumba-z-ania-dla-wosp-2/
LOCATION:Dom Kultury „Na Skarpie”\, os. Piastowskie 104\, Poznań\, województwo wielkopolskie\, 61-164\, Polska
CATEGORIES:Na Skarpie
ATTACH;FMTTYPE=image/jpeg:https://osiedlemlodych.pl/wp-content/uploads/2022/09/zumba-popr.jpg
ORGANIZER;CN="Dom%20Kultury%20%22Na%20Skarpie%22":MAILTO:naskarpie@osiedlemlodych.pl
END:VEVENT
END:VCALENDAR